Package: webbioc Version: 1.80.0 Command: /Library/Frameworks/R.framework/Resources/bin/R CMD check --install=check:webbioc.install-out.txt --library=/Library/Frameworks/R.framework/Resources/library --no-vignettes --timings webbioc_1.80.0.tar.gz StartedAt: 2025-10-15 16:48:14 -0400 (Wed, 15 Oct 2025) EndedAt: 2025-10-15 16:49:59 -0400 (Wed, 15 Oct 2025) EllapsedTime: 105.4 seconds RetCode: 0 Status: OK CheckDir: webbioc.Rcheck Warnings: 0