Package: weaver Version: 1.74.0 Command: /home/biocbuild/bbs-3.21-bioc/R/bin/R CMD INSTALL weaver StartedAt: 2025-10-15 15:06:22 -0400 (Wed, 15 Oct 2025) EndedAt: 2025-10-15 15:06:54 -0400 (Wed, 15 Oct 2025) EllapsedTime: 32.8 seconds RetCode: 0 Status: OK