Package: weaver Version: 1.74.0 Command: /home/biocbuild/R/R/bin/R CMD INSTALL weaver StartedAt: 2025-10-13 20:17:42 -0000 (Mon, 13 Oct 2025) EndedAt: 2025-10-13 20:18:29 -0000 (Mon, 13 Oct 2025) EllapsedTime: 46.8 seconds RetCode: 0 Status: OK