Package: weaver Version: 1.74.0 Command: /home/biocbuild/R/R/bin/R CMD build --keep-empty-dirs --no-resave-data weaver StartedAt: 2025-10-14 05:43:44 -0000 (Tue, 14 Oct 2025) EndedAt: 2025-10-14 05:43:49 -0000 (Tue, 14 Oct 2025) EllapsedTime: 5.0 seconds RetCode: 0 Status: OK PackageFile: weaver_1.74.0.tar.gz PackageFileSize: 226.2 KiB