Package: weaver Version: 1.74.0 Command: /Library/Frameworks/R.framework/Resources/bin/R CMD build --keep-empty-dirs --no-resave-data weaver StartedAt: 2025-10-14 11:57:50 -0400 (Tue, 14 Oct 2025) EndedAt: 2025-10-14 11:58:00 -0400 (Tue, 14 Oct 2025) EllapsedTime: 10.1 seconds RetCode: 0 Status: OK PackageFile: weaver_1.74.0.tar.gz PackageFileSize: 231.3 KiB