Package: weaver Version: 1.74.0 Command: rm -rf weaver.buildbin-libdir && mkdir weaver.buildbin-libdir && /Users/biocbuild/BBS/utils/build-universal.sh weaver_1.74.0.tar.gz /Library/Frameworks/R.framework/Resources/bin/R weaver.buildbin-libdir StartedAt: 2025-10-15 21:01:33 -0400 (Wed, 15 Oct 2025) EndedAt: 2025-10-15 21:01:36 -0400 (Wed, 15 Oct 2025) EllapsedTime: 3.5 seconds RetCode: 0 Status: OK PackageFile: weaver_1.74.0.tgz PackageFileSize: 271.8 KiB