Package: vsclust Version: 1.10.0 Command: /home/biocbuild/R/R/bin/R CMD INSTALL vsclust StartedAt: 2025-10-13 20:32:43 -0000 (Mon, 13 Oct 2025) EndedAt: 2025-10-13 20:33:32 -0000 (Mon, 13 Oct 2025) EllapsedTime: 49.4 seconds RetCode: 0 Status: OK