Package: vsclust Version: 1.10.0 Command: /home/biocbuild/R/R/bin/R CMD build --keep-empty-dirs --no-resave-data vsclust StartedAt: 2025-10-14 05:41:56 -0000 (Tue, 14 Oct 2025) EndedAt: 2025-10-14 05:44:56 -0000 (Tue, 14 Oct 2025) EllapsedTime: 180.2 seconds RetCode: 0 Status: OK PackageFile: vsclust_1.10.0.tar.gz PackageFileSize: 3.566 MiB