Package: variancePartition Version: 1.38.1 Command: /home/biocbuild/bbs-3.21-bioc/R/bin/R CMD check --install=check:variancePartition.install-out.txt --library=/home/biocbuild/bbs-3.21-bioc/R/site-library --timings variancePartition_1.38.1.tar.gz StartedAt: 2025-10-16 04:42:02 -0400 (Thu, 16 Oct 2025) EndedAt: 2025-10-16 05:01:59 -0400 (Thu, 16 Oct 2025) EllapsedTime: 1196.5 seconds RetCode: 0 Status: OK CheckDir: variancePartition.Rcheck Warnings: 0