Package: variancePartition Version: 1.38.1 Command: /home/biocbuild/bbs-3.21-bioc/R/bin/R CMD build --keep-empty-dirs --no-resave-data variancePartition StartedAt: 2025-10-15 20:27:16 -0400 (Wed, 15 Oct 2025) EndedAt: 2025-10-15 20:38:10 -0400 (Wed, 15 Oct 2025) EllapsedTime: 653.3 seconds RetCode: 0 Status: OK PackageFile: variancePartition_1.38.1.tar.gz PackageFileSize: 4.719 MiB