Package: variancePartition Version: 1.38.1 Command: /Library/Frameworks/R.framework/Resources/bin/R CMD INSTALL variancePartition StartedAt: 2025-10-13 15:33:33 -0400 (Mon, 13 Oct 2025) EndedAt: 2025-10-13 15:33:57 -0400 (Mon, 13 Oct 2025) EllapsedTime: 24.0 seconds RetCode: 0 Status: OK