Package: updateObject Version: 1.12.0 Command: /home/biocbuild/bbs-3.21-bioc/R/bin/R CMD INSTALL updateObject StartedAt: 2025-10-15 15:12:28 -0400 (Wed, 15 Oct 2025) EndedAt: 2025-10-15 15:12:34 -0400 (Wed, 15 Oct 2025) EllapsedTime: 5.3 seconds RetCode: 0 Status: OK