Package: updateObject Version: 1.12.0 Command: /Library/Frameworks/R.framework/Resources/bin/R CMD INSTALL updateObject StartedAt: 2025-10-13 15:23:30 -0400 (Mon, 13 Oct 2025) EndedAt: 2025-10-13 15:23:44 -0400 (Mon, 13 Oct 2025) EllapsedTime: 13.3 seconds RetCode: 0 Status: OK