Package: updateObject Version: 1.12.0 Command: /Library/Frameworks/R.framework/Resources/bin/R CMD build --keep-empty-dirs --no-resave-data updateObject StartedAt: 2025-10-13 23:26:56 -0400 (Mon, 13 Oct 2025) EndedAt: 2025-10-13 23:27:45 -0400 (Mon, 13 Oct 2025) EllapsedTime: 49.4 seconds RetCode: 0 Status: OK PackageFile: updateObject_1.12.0.tar.gz PackageFileSize: 1.289 MiB