Package: updateObject Version: 1.12.0 Command: /home/biocbuild/R/R/bin/R CMD INSTALL updateObject StartedAt: 2025-10-13 20:24:50 -0000 (Mon, 13 Oct 2025) EndedAt: 2025-10-13 20:25:00 -0000 (Mon, 13 Oct 2025) EllapsedTime: 10.0 seconds RetCode: 0 Status: OK