Package: unifiedWMWqPCR Version: 1.44.0 Command: /home/biocbuild/bbs-3.21-bioc/R/bin/R CMD INSTALL unifiedWMWqPCR StartedAt: 2025-10-15 15:11:07 -0400 (Wed, 15 Oct 2025) EndedAt: 2025-10-15 15:11:12 -0400 (Wed, 15 Oct 2025) EllapsedTime: 4.9 seconds RetCode: 0 Status: OK