Package: unifiedWMWqPCR Version: 1.44.0 Command: /home/biocbuild/bbs-3.21-bioc/R/bin/R CMD build --keep-empty-dirs --no-resave-data unifiedWMWqPCR StartedAt: 2025-10-15 20:26:29 -0400 (Wed, 15 Oct 2025) EndedAt: 2025-10-15 20:26:39 -0400 (Wed, 15 Oct 2025) EllapsedTime: 10.0 seconds RetCode: 0 Status: OK PackageFile: unifiedWMWqPCR_1.44.0.tar.gz PackageFileSize: 501.7 KiB