Package: unifiedWMWqPCR Version: 1.44.0 Command: rm -rf unifiedWMWqPCR.buildbin-libdir && mkdir unifiedWMWqPCR.buildbin-libdir && /Users/biocbuild/BBS/utils/build-universal.sh unifiedWMWqPCR_1.44.0.tar.gz /Library/Frameworks/R.framework/Resources/bin/R unifiedWMWqPCR.buildbin-libdir StartedAt: 2025-10-14 15:01:19 -0400 (Tue, 14 Oct 2025) EndedAt: 2025-10-14 15:01:34 -0400 (Tue, 14 Oct 2025) EllapsedTime: 15.3 seconds RetCode: 0 Status: OK PackageFile: unifiedWMWqPCR_1.44.0.tgz PackageFileSize: 732.9 KiB