Package: unifiedWMWqPCR Version: 1.44.0 Command: rm -rf unifiedWMWqPCR.buildbin-libdir && mkdir unifiedWMWqPCR.buildbin-libdir && /Users/biocbuild/BBS/utils/build-universal.sh unifiedWMWqPCR_1.44.0.tar.gz /Library/Frameworks/R.framework/Resources/bin/R unifiedWMWqPCR.buildbin-libdir StartedAt: 2025-10-15 20:57:30 -0400 (Wed, 15 Oct 2025) EndedAt: 2025-10-15 20:57:37 -0400 (Wed, 15 Oct 2025) EllapsedTime: 6.7 seconds RetCode: 0 Status: OK PackageFile: unifiedWMWqPCR_1.44.0.tgz PackageFileSize: 733.9 KiB