Package: uncoverappLib Version: 1.18.0 Command: /home/biocbuild/bbs-3.21-bioc/R/bin/R CMD INSTALL uncoverappLib StartedAt: 2025-10-15 15:59:00 -0400 (Wed, 15 Oct 2025) EndedAt: 2025-10-15 15:59:58 -0400 (Wed, 15 Oct 2025) EllapsedTime: 57.9 seconds RetCode: 0 Status: OK