Package: uncoverappLib Version: 1.18.0 Command: /home/biocbuild/bbs-3.21-bioc/R/bin/R CMD build --keep-empty-dirs --no-resave-data uncoverappLib StartedAt: 2025-10-15 20:26:24 -0400 (Wed, 15 Oct 2025) EndedAt: 2025-10-15 20:27:42 -0400 (Wed, 15 Oct 2025) EllapsedTime: 78.1 seconds RetCode: 0 Status: OK PackageFile: uncoverappLib_1.18.0.tar.gz PackageFileSize: 3.43 MiB