Package: uncoverappLib Version: 1.18.0 Command: /home/biocbuild/R/R/bin/R CMD INSTALL uncoverappLib StartedAt: 2025-10-13 21:18:17 -0000 (Mon, 13 Oct 2025) EndedAt: 2025-10-13 21:19:40 -0000 (Mon, 13 Oct 2025) EllapsedTime: 82.8 seconds RetCode: 0 Status: OK