Package: uncoverappLib Version: 1.18.0 Command: /home/biocbuild/R/R/bin/R CMD build --keep-empty-dirs --no-resave-data uncoverappLib StartedAt: 2025-10-14 05:35:40 -0000 (Tue, 14 Oct 2025) EndedAt: 2025-10-14 05:37:29 -0000 (Tue, 14 Oct 2025) EllapsedTime: 109.1 seconds RetCode: 0 Status: OK PackageFile: uncoverappLib_1.18.0.tar.gz PackageFileSize: 3.457 MiB