Package: trigger Version: 1.54.0 Command: /home/biocbuild/bbs-3.21-bioc/R/bin/R CMD INSTALL trigger StartedAt: 2025-10-15 15:27:52 -0400 (Wed, 15 Oct 2025) EndedAt: 2025-10-15 15:27:53 -0400 (Wed, 15 Oct 2025) EllapsedTime: 1.1 seconds RetCode: 1 Status: ERROR