Package: trigger Version: 1.54.0 Command: /home/biocbuild/R/R/bin/R CMD INSTALL trigger StartedAt: 2025-10-13 20:43:46 -0000 (Mon, 13 Oct 2025) EndedAt: 2025-10-13 20:43:47 -0000 (Mon, 13 Oct 2025) EllapsedTime: 1.2 seconds RetCode: 1 Status: ERROR