Package: treekoR Version: 1.16.0 Command: rm -rf treekoR.buildbin-libdir && mkdir treekoR.buildbin-libdir && E:\biocbuild\bbs-3.21-bioc\R\bin\R.exe CMD INSTALL --build --library=treekoR.buildbin-libdir treekoR_1.16.0.tar.gz StartedAt: 2025-08-15 10:31:19 -0400 (Fri, 15 Aug 2025) EndedAt: 2025-08-15 10:32:09 -0400 (Fri, 15 Aug 2025) EllapsedTime: 50.0 seconds RetCode: 0 Status: OK PackageFile: treekoR_1.16.0.zip PackageFileSize: 1.649 MiB