Package: treekoR Version: 1.16.0 Command: /home/biocbuild/R/R/bin/R CMD INSTALL treekoR StartedAt: 2025-10-13 20:36:26 -0000 (Mon, 13 Oct 2025) EndedAt: 2025-10-13 20:37:28 -0000 (Mon, 13 Oct 2025) EllapsedTime: 61.6 seconds RetCode: 0 Status: OK