Package: treeio Version: 1.32.0 Command: /home/biocbuild/bbs-3.21-bioc/R/bin/R CMD INSTALL treeio StartedAt: 2025-10-15 15:08:45 -0400 (Wed, 15 Oct 2025) EndedAt: 2025-10-15 15:08:51 -0400 (Wed, 15 Oct 2025) EllapsedTime: 6.8 seconds RetCode: 0 Status: OK