Package: treeio Version: 1.32.0 Command: /Library/Frameworks/R.framework/Resources/bin/R CMD INSTALL treeio StartedAt: 2025-10-13 15:16:44 -0400 (Mon, 13 Oct 2025) EndedAt: 2025-10-13 15:16:59 -0400 (Mon, 13 Oct 2025) EllapsedTime: 14.5 seconds RetCode: 0 Status: OK