Package: treeio Version: 1.32.0 Command: rm -rf treeio.buildbin-libdir && mkdir treeio.buildbin-libdir && /Users/biocbuild/BBS/utils/build-universal.sh treeio_1.32.0.tar.gz /Library/Frameworks/R.framework/Resources/bin/R treeio.buildbin-libdir StartedAt: 2025-10-14 14:59:40 -0400 (Tue, 14 Oct 2025) EndedAt: 2025-10-14 15:00:01 -0400 (Tue, 14 Oct 2025) EllapsedTime: 21.2 seconds RetCode: 0 Status: OK PackageFile: treeio_1.32.0.tgz PackageFileSize: 910.3 KiB