Package: treeclimbR Version: 1.4.0 Command: /home/biocbuild/bbs-3.21-bioc/R/bin/R CMD build --keep-empty-dirs --no-resave-data treeclimbR StartedAt: 2025-10-15 20:22:52 -0400 (Wed, 15 Oct 2025) EndedAt: 2025-10-15 20:23:57 -0400 (Wed, 15 Oct 2025) EllapsedTime: 65.1 seconds RetCode: 0 Status: OK PackageFile: treeclimbR_1.4.0.tar.gz PackageFileSize: 677.9 KiB