Package: treeclimbR Version: 1.4.0 Command: /Library/Frameworks/R.framework/Resources/bin/R CMD INSTALL treeclimbR StartedAt: 2025-10-13 16:51:13 -0400 (Mon, 13 Oct 2025) EndedAt: 2025-10-13 16:51:58 -0400 (Mon, 13 Oct 2025) EllapsedTime: 45.2 seconds RetCode: 0 Status: OK