Package: treeclimbR Version: 1.4.0 Command: /Library/Frameworks/R.framework/Resources/bin/R CMD build --keep-empty-dirs --no-resave-data treeclimbR StartedAt: 2025-10-14 11:23:11 -0400 (Tue, 14 Oct 2025) EndedAt: 2025-10-14 11:24:35 -0400 (Tue, 14 Oct 2025) EllapsedTime: 83.3 seconds RetCode: 0 Status: OK PackageFile: treeclimbR_1.4.0.tar.gz PackageFileSize: 745 KiB