Package: transmogR Version: 1.4.2 Command: /home/biocbuild/R/R/bin/R CMD INSTALL transmogR StartedAt: 2025-10-13 20:55:44 -0000 (Mon, 13 Oct 2025) EndedAt: 2025-10-13 20:56:42 -0000 (Mon, 13 Oct 2025) EllapsedTime: 58.0 seconds RetCode: 0 Status: OK