Package: transformGamPoi Version: 1.14.0 Command: /home/biocbuild/bbs-3.21-bioc/R/bin/R CMD build --keep-empty-dirs --no-resave-data transformGamPoi StartedAt: 2025-10-15 20:22:10 -0400 (Wed, 15 Oct 2025) EndedAt: 2025-10-15 20:22:52 -0400 (Wed, 15 Oct 2025) EllapsedTime: 42.1 seconds RetCode: 0 Status: OK PackageFile: transformGamPoi_1.14.0.tar.gz PackageFileSize: 786.4 KiB