Package: transformGamPoi Version: 1.14.0 Command: /Library/Frameworks/R.framework/Resources/bin/R CMD build --keep-empty-dirs --no-resave-data transformGamPoi StartedAt: 2025-10-13 23:19:34 -0400 (Mon, 13 Oct 2025) EndedAt: 2025-10-13 23:20:57 -0400 (Mon, 13 Oct 2025) EllapsedTime: 82.5 seconds RetCode: 0 Status: OK PackageFile: transformGamPoi_1.14.0.tar.gz PackageFileSize: 643.9 KiB