Package: transformGamPoi Version: 1.14.0 Command: /home/biocbuild/R/R/bin/R CMD INSTALL transformGamPoi StartedAt: 2025-10-13 20:52:42 -0000 (Mon, 13 Oct 2025) EndedAt: 2025-10-13 20:52:57 -0000 (Mon, 13 Oct 2025) EllapsedTime: 15.0 seconds RetCode: 0 Status: OK