Package: transformGamPoi Version: 1.14.0 Command: rm -rf transformGamPoi.buildbin-libdir && mkdir transformGamPoi.buildbin-libdir && /Users/biocbuild/BBS/utils/build-universal.sh transformGamPoi_1.14.0.tar.gz /Library/Frameworks/R.framework/Resources/bin/R transformGamPoi.buildbin-libdir StartedAt: 2025-04-21 22:55:38 -0400 (Mon, 21 Apr 2025) EndedAt: 2025-04-21 22:55:44 -0400 (Mon, 21 Apr 2025) EllapsedTime: 6.1 seconds RetCode: 0 Status: OK PackageFile: transformGamPoi_1.14.0.tgz PackageFileSize: 700.8 KiB