Package: transformGamPoi Version: 1.14.0 Command: /Library/Frameworks/R.framework/Resources/bin/R CMD build --keep-empty-dirs --no-resave-data transformGamPoi StartedAt: 2025-10-14 11:18:11 -0400 (Tue, 14 Oct 2025) EndedAt: 2025-10-14 11:19:08 -0400 (Tue, 14 Oct 2025) EllapsedTime: 56.8 seconds RetCode: 0 Status: OK PackageFile: transformGamPoi_1.14.0.tar.gz PackageFileSize: 643.9 KiB