Package: transcriptogramer Version: 1.30.0 Command: /home/biocbuild/bbs-3.21-bioc/R/bin/R CMD build --keep-empty-dirs --no-resave-data transcriptogramer StartedAt: 2025-10-15 20:22:00 -0400 (Wed, 15 Oct 2025) EndedAt: 2025-10-15 20:33:18 -0400 (Wed, 15 Oct 2025) EllapsedTime: 677.7 seconds RetCode: 0 Status: OK PackageFile: transcriptogramer_1.30.0.tar.gz PackageFileSize: 3.63 MiB