Package: transcriptogramer Version: 1.30.0 Command: rm -rf transcriptogramer.buildbin-libdir && mkdir transcriptogramer.buildbin-libdir && /Users/biocbuild/BBS/utils/build-universal.sh transcriptogramer_1.30.0.tar.gz /Library/Frameworks/R.framework/Resources/bin/R transcriptogramer.buildbin-libdir StartedAt: 2025-10-14 14:59:11 -0400 (Tue, 14 Oct 2025) EndedAt: 2025-10-14 15:00:21 -0400 (Tue, 14 Oct 2025) EllapsedTime: 69.6 seconds RetCode: 0 Status: OK PackageFile: transcriptogramer_1.30.0.tgz PackageFileSize: 5.452 MiB