Package: transcriptogramer Version: 1.30.0 Command: /Library/Frameworks/R.framework/Resources/bin/R CMD build --keep-empty-dirs --no-resave-data transcriptogramer StartedAt: 2025-10-14 11:15:58 -0400 (Tue, 14 Oct 2025) EndedAt: 2025-10-14 11:33:09 -0400 (Tue, 14 Oct 2025) EllapsedTime: 1031.0 seconds RetCode: 0 Status: OK PackageFile: transcriptogramer_1.30.0.tar.gz PackageFileSize: 3.631 MiB