Package: transcriptR Version: 1.36.0 Command: /Library/Frameworks/R.framework/Resources/bin/R CMD INSTALL transcriptR StartedAt: 2025-10-13 16:38:14 -0400 (Mon, 13 Oct 2025) EndedAt: 2025-10-13 16:39:55 -0400 (Mon, 13 Oct 2025) EllapsedTime: 101.9 seconds RetCode: 0 Status: OK