Package: transcriptR Version: 1.36.0 Command: rm -rf transcriptR.buildbin-libdir && mkdir transcriptR.buildbin-libdir && /Users/biocbuild/BBS/utils/build-universal.sh transcriptR_1.36.0.tar.gz /Library/Frameworks/R.framework/Resources/bin/R transcriptR.buildbin-libdir StartedAt: 2025-10-14 14:59:11 -0400 (Tue, 14 Oct 2025) EndedAt: 2025-10-14 15:01:13 -0400 (Tue, 14 Oct 2025) EllapsedTime: 121.9 seconds RetCode: 0 Status: OK PackageFile: transcriptR_1.36.0.tgz PackageFileSize: 3.191 MiB