Package: transcriptR Version: 1.36.0 Command: /home/biocbuild/R/R/bin/R CMD INSTALL transcriptR StartedAt: 2025-10-13 21:11:47 -0000 (Mon, 13 Oct 2025) EndedAt: 2025-10-13 21:12:56 -0000 (Mon, 13 Oct 2025) EllapsedTime: 68.3 seconds RetCode: 0 Status: OK