Package: transcriptR Version: 1.36.0 Command: /Library/Frameworks/R.framework/Resources/bin/R CMD INSTALL transcriptR StartedAt: 2025-10-13 18:07:26 -0400 (Mon, 13 Oct 2025) EndedAt: 2025-10-13 18:08:21 -0400 (Mon, 13 Oct 2025) EllapsedTime: 55.4 seconds RetCode: 0 Status: OK