Package: transcriptR Version: 1.36.0 Command: /Library/Frameworks/R.framework/Resources/bin/R CMD build --keep-empty-dirs --no-resave-data transcriptR StartedAt: 2025-10-14 11:16:27 -0400 (Tue, 14 Oct 2025) EndedAt: 2025-10-14 11:18:11 -0400 (Tue, 14 Oct 2025) EllapsedTime: 103.9 seconds RetCode: 0 Status: OK PackageFile: transcriptR_1.36.0.tar.gz PackageFileSize: 3.571 MiB