Package: trackViewer Version: 1.44.0 Command: /home/biocbuild/bbs-3.21-bioc/R/bin/R CMD INSTALL trackViewer StartedAt: 2025-10-15 15:45:09 -0400 (Wed, 15 Oct 2025) EndedAt: 2025-10-15 15:46:09 -0400 (Wed, 15 Oct 2025) EllapsedTime: 60.4 seconds RetCode: 0 Status: OK