Package: trackViewer Version: 1.44.0 Command: /home/biocbuild/bbs-3.21-bioc/R/bin/R CMD build --keep-empty-dirs --no-resave-data trackViewer StartedAt: 2025-10-15 20:21:40 -0400 (Wed, 15 Oct 2025) EndedAt: 2025-10-15 20:32:12 -0400 (Wed, 15 Oct 2025) EllapsedTime: 631.6 seconds RetCode: 0 Status: OK PackageFile: trackViewer_1.44.0.tar.gz PackageFileSize: 10.26 MiB