Package: trackViewer Version: 1.44.0 Command: /home/biocbuild/R/R/bin/R CMD build --keep-empty-dirs --no-resave-data trackViewer StartedAt: 2025-10-14 05:27:50 -0000 (Tue, 14 Oct 2025) EndedAt: 2025-10-14 05:44:28 -0000 (Tue, 14 Oct 2025) EllapsedTime: 998.9 seconds RetCode: 0 Status: OK PackageFile: trackViewer_1.44.0.tar.gz PackageFileSize: 10.05 MiB